BEGIN:VCALENDAR
VERSION:2.0
PRODID:-//217.160.0.242//NONSGML kigkonsult.se iCalcreator 2.20//
CALSCALE:GREGORIAN
METHOD:PUBLISH
X-WR-TIMEZONE:Europe/Berlin
BEGIN:VEVENT
UID:event177@Ruder-Club Potsdam e.V.
DTSTAMP:20260420T071122Z
CATEGORIES:Regatta
DESCRIPTION:70. Rüdersdorfer Frühjahrsregatta 2022\nKategorie: Regatta\nICS
 -Link: https://rc-potsdam.de/index.php?option=com_jem&view=event&id=177:70
 -rüdersdorfer-frühjahrsregatta-2022\n
DTSTART;VALUE=DATE:20240518
DTEND;VALUE=DATE:20240520
LOCATION:Rüdersdorf\,Seestraß 13\,15562 Rüdersdorf bei berlin\,Germany
SUMMARY:70. Rüdersdorfer Frühjahrsregatta 2022
END:VEVENT
END:VCALENDAR
