BEGIN:VCALENDAR
VERSION:2.0
PRODID:-//217.160.0.242//NONSGML kigkonsult.se iCalcreator 2.20//
CALSCALE:GREGORIAN
METHOD:PUBLISH
X-WR-TIMEZONE:Europe/Berlin
BEGIN:VEVENT
UID:event148@Ruder-Club Potsdam e.V.
DTSTAMP:20260420T071123Z
CATEGORIES:allg\,
DESCRIPTION:55. Bundeswettbewerb für Jungen und Mädchen\nKategorie: allg\,
 \nICS-Link: https://rc-potsdam.de/index.php?option=com_jem&view=event&id=1
 48:55-bundeswettbewerb-für-jungen-und-mädchen\n
DTSTART;VALUE=DATE:20240627
DTEND;VALUE=DATE:20240701
LOCATION:Berlin-Grünau\,Regattastraße\,12527 Berlin\,Germany
SUMMARY:55. Bundeswettbewerb für Jungen und Mädchen
END:VEVENT
END:VCALENDAR
