BEGIN:VCALENDAR
VERSION:2.0
PRODID:-//217.160.0.242//NONSGML kigkonsult.se iCalcreator 2.20//
CALSCALE:GREGORIAN
METHOD:PUBLISH
X-WR-TIMEZONE:Europe/Berlin
BEGIN:VEVENT
UID:event9@Ruder-Club Potsdam e.V.
DTSTAMP:20260422T113903Z
CATEGORIES:Regatta
DESCRIPTION:Berliner Sommerregatta\nKategorie: Regatta\nICS-Link: https://r
 c-potsdam.de/index.php?option=com_jem&view=event&id=9:berliner-sommerregat
 ta\n
DTSTART;VALUE=DATE:20150606
DTEND;VALUE=DATE:20150608
LOCATION:Berlin-Grünau\,Regattastraße\,12527 Berlin
SUMMARY:Berliner Sommerregatta
URL:https://rc-potsdam.de/index.php?option=com_jem&view=event&id=9:berliner
 -sommerregatta
END:VEVENT
END:VCALENDAR
