BEGIN:VCALENDAR
VERSION:2.0
PRODID:-//217.160.0.242//NONSGML kigkonsult.se iCalcreator 2.20//
CALSCALE:GREGORIAN
METHOD:PUBLISH
X-WR-TIMEZONE:Europe/Berlin
BEGIN:VEVENT
UID:event75@Ruder-Club Potsdam e.V.
DTSTAMP:20260422T113744Z
CATEGORIES:Regatta
DESCRIPTION:Früh-Regatta\nKategorie: Regatta\nICS-Link: https://rc-potsdam.
 de/index.php?option=com_jem&view=event&id=75:früh-regatta\n
DTSTART;VALUE=DATE:20170422
DTEND;VALUE=DATE:20170424
LOCATION:Berlin-Grünau\,Regattastraße\,12527 Berlin
SUMMARY:Früh-Regatta
END:VEVENT
END:VCALENDAR
