BEGIN:VCALENDAR
VERSION:2.0
PRODID:-//217.160.0.242//NONSGML kigkonsult.se iCalcreator 2.20//
CALSCALE:GREGORIAN
METHOD:PUBLISH
X-WR-TIMEZONE:Europe/Berlin
BEGIN:VEVENT
UID:event74@Ruder-Club Potsdam e.V.
DTSTAMP:20260422T113918Z
CATEGORIES:Regatta
DESCRIPTION:Früh-Test Junioren B\nKategorie: Regatta\nICS-Link: https://rc-
 potsdam.de/index.php?option=com_jem&view=event&id=74:früh-test-junioren-b
 \n
DTSTART;VALUE=DATE:20170421
DTEND;VALUE=DATE:20170422
LOCATION:Berlin-Grünau\,Regattastraße\,12527 Berlin
SUMMARY:Früh-Test Junioren B
END:VEVENT
END:VCALENDAR
