BEGIN:VCALENDAR
VERSION:2.0
PRODID:-//217.160.0.242//NONSGML kigkonsult.se iCalcreator 2.20//
CALSCALE:GREGORIAN
METHOD:PUBLISH
X-WR-TIMEZONE:Europe/Berlin
BEGIN:VEVENT
UID:event66@Ruder-Club Potsdam e.V.
DTSTAMP:20260422T103054Z
CATEGORIES:Regatta
DESCRIPTION:Deutsche Juniorenmeisterschaften\, Deutsche Jahrgangsmeistersch
 aften U17\, U19 und U23\nKategorie: Regatta\nICS-Link: https://rc-potsdam.
 de/index.php?option=com_jem&view=event&id=66:deutsche-juniorenmeisterschaf
 ten-deutsche-jahrgangsmeisterschaften-u17-u19-und-u23\n
DTSTART;VALUE=DATE:20170622
DTEND;VALUE=DATE:20170626
LOCATION:München\,Oberschleißheim
SUMMARY:Deutsche Juniorenmeisterschaften\, Deutsche Jahrgangsmeisterschafte
 n U17\, U19 und U23
URL:https://rc-potsdam.de/index.php?option=com_jem&view=event&id=66:deutsch
 e-juniorenmeisterschaften-deutsche-jahrgangsmeisterschaften-u17-u19-und-u2
 3
END:VEVENT
END:VCALENDAR
