BEGIN:VCALENDAR
VERSION:2.0
PRODID:-//217.160.0.242//NONSGML kigkonsult.se iCalcreator 2.20//
CALSCALE:GREGORIAN
METHOD:PUBLISH
X-WR-TIMEZONE:Europe/Berlin
BEGIN:VEVENT
UID:event6@Ruder-Club Potsdam e.V.
DTSTAMP:20260422T114204Z
CATEGORIES:Regatta
DESCRIPTION:Hamburg - 2. Internationale DRV-Juniorenregatta \nKategorie: Re
 gatta\nICS-Link: https://rc-potsdam.de/index.php?option=com_jem&view=event
 &id=6:2-internationale-drv-juniorenregatta\n
DTSTART;VALUE=DATE:20150605
DTEND;VALUE=DATE:20150608
LOCATION:Hamburg\,Allermöher Deich 36\,21037 Hamburg
SUMMARY:Hamburg - 2. Internationale DRV-Juniorenregatta 
URL:https://rc-potsdam.de/index.php?option=com_jem&view=event&id=6:2-intern
 ationale-drv-juniorenregatta
END:VEVENT
END:VCALENDAR
