BEGIN:VCALENDAR
VERSION:2.0
PRODID:-//217.160.0.242//NONSGML kigkonsult.se iCalcreator 2.20//
CALSCALE:GREGORIAN
METHOD:PUBLISH
X-WR-TIMEZONE:Europe/Berlin
BEGIN:VEVENT
UID:event57@Ruder-Club Potsdam e.V.
DTSTAMP:20260422T115118Z
CATEGORIES:Regatta
DESCRIPTION:Baltic Cup\nKategorie: Regatta\nICS-Link: https://rc-potsdam.de
 /index.php?option=com_jem&view=event&id=57:baltic-cup\n
DTSTART;VALUE=DATE:20161001
DTEND;VALUE=DATE:20161003
LOCATION:Hamburg\,Allermöher Deich 36\,21037 Hamburg
SUMMARY:Baltic Cup
URL:https://rc-potsdam.de/index.php?option=com_jem&view=event&id=57:baltic-
 cup
END:VEVENT
END:VCALENDAR
