BEGIN:VCALENDAR
VERSION:2.0
PRODID:-//217.160.0.242//NONSGML kigkonsult.se iCalcreator 2.20//
CALSCALE:GREGORIAN
METHOD:PUBLISH
X-WR-TIMEZONE:Europe/Berlin
BEGIN:VEVENT
UID:event56@Ruder-Club Potsdam e.V.
DTSTAMP:20260422T113918Z
CATEGORIES:allg\,
DESCRIPTION:Bundesfinale JtfO\nKategorie: allg\,\nICS-Link: https://rc-pots
 dam.de/index.php?option=com_jem&view=event&id=56:bundesfinale-jtfo\n
DTSTART;VALUE=DATE:20160918
DTEND;VALUE=DATE:20160923
LOCATION:Berlin-Grünau\,Regattastraße\,12527 Berlin
SUMMARY:Bundesfinale JtfO
URL:https://rc-potsdam.de/index.php?option=com_jem&view=event&id=56:bundesf
 inale-jtfo
END:VEVENT
END:VCALENDAR
