BEGIN:VCALENDAR
VERSION:2.0
PRODID:-//217.160.0.242//NONSGML kigkonsult.se iCalcreator 2.20//
CALSCALE:GREGORIAN
METHOD:PUBLISH
X-WR-TIMEZONE:Europe/Berlin
BEGIN:VEVENT
UID:event49@Ruder-Club Potsdam e.V.
DTSTAMP:20260422T114638Z
CATEGORIES:Regatta
DESCRIPTION:DM U17\, U19\, U23\nKategorie: Regatta\nICS-Link: https://rc-po
 tsdam.de/index.php?option=com_jem&view=event&id=49:dm-u17-u19-u23\n
DTSTART;VALUE=DATE:20160624
DTEND;VALUE=DATE:20160627
LOCATION:Hamburg\,Allermöher Deich 36\,21037 Hamburg
SUMMARY:DM U17\, U19\, U23
URL:https://rc-potsdam.de/index.php?option=com_jem&view=event&id=49:dm-u17-
 u19-u23
END:VEVENT
END:VCALENDAR
