BEGIN:VCALENDAR
VERSION:2.0
PRODID:-//217.160.0.242//NONSGML kigkonsult.se iCalcreator 2.20//
CALSCALE:GREGORIAN
METHOD:PUBLISH
X-WR-TIMEZONE:Europe/Berlin
BEGIN:VEVENT
UID:event39@Ruder-Club Potsdam e.V.
DTSTAMP:20260422T101611Z
CATEGORIES:Regatta
DESCRIPTION:Int. Junioren Regatta\nKategorie: Regatta\nICS-Link: https://rc
 -potsdam.de/index.php?option=com_jem&view=event&id=39:int-junioren-regatta
 \n
DTSTART;VALUE=DATE:20160506
DTEND;VALUE=DATE:20160509
LOCATION:München\,Oberschleißheim
SUMMARY:Int. Junioren Regatta
URL:https://rc-potsdam.de/index.php?option=com_jem&view=event&id=39:int-jun
 ioren-regatta
END:VEVENT
END:VCALENDAR
