BEGIN:VCALENDAR
VERSION:2.0
PRODID:-//217.160.0.242//NONSGML kigkonsult.se iCalcreator 2.20//
CALSCALE:GREGORIAN
METHOD:PUBLISH
X-WR-TIMEZONE:Europe/Berlin
BEGIN:VEVENT
UID:event37@Ruder-Club Potsdam e.V.
DTSTAMP:20260422T113714Z
CATEGORIES:Regatta
DESCRIPTION:Früh-Regatta \nKategorie: Regatta\nICS-Link: https://rc-potsdam
 .de/index.php?option=com_jem&view=event&id=37:frueh-regatta\n
DTSTART;VALUE=DATE:20160423
DTEND;VALUE=DATE:20160425
LOCATION:Berlin-Grünau\,Regattastraße\,12527 Berlin
SUMMARY:Früh-Regatta 
URL:https://rc-potsdam.de/index.php?option=com_jem&view=event&id=37:frueh-r
 egatta
END:VEVENT
END:VCALENDAR
