BEGIN:VCALENDAR
VERSION:2.0
PRODID:-//217.160.0.242//NONSGML kigkonsult.se iCalcreator 2.20//
CALSCALE:GREGORIAN
METHOD:PUBLISH
X-WR-TIMEZONE:Europe/Berlin
BEGIN:VEVENT
UID:event36@Ruder-Club Potsdam e.V.
DTSTAMP:20260422T113547Z
CATEGORIES:Regatta
DESCRIPTION:Kleinboot Test  Jun. B\nKategorie: Regatta\nICS-Link: https://r
 c-potsdam.de/index.php?option=com_jem&view=event&id=36:kleinboot-test-jun-
 b\n
DTSTART;VALUE=DATE:20160422
DTEND;VALUE=DATE:20160424
LOCATION:Berlin-Grünau\,Regattastraße\,12527 Berlin
SUMMARY:Kleinboot Test  Jun. B
URL:https://rc-potsdam.de/index.php?option=com_jem&view=event&id=36:kleinbo
 ot-test-jun-b
END:VEVENT
END:VCALENDAR
