BEGIN:VCALENDAR
VERSION:2.0
PRODID:-//217.160.0.242//NONSGML kigkonsult.se iCalcreator 2.20//
CALSCALE:GREGORIAN
METHOD:PUBLISH
X-WR-TIMEZONE:Europe/Berlin
BEGIN:VEVENT
UID:event194@Ruder-Club Potsdam e.V.
DTSTAMP:20260420T060308Z
CATEGORIES:Regatta
DESCRIPTION:Deutsche Jugendmeisterschaften und Jahrgangsmeisterschaften U17
 /U23\nKategorie: Regatta\nICS-Link: https://rc-potsdam.de/index.php?option
 =com_jem&view=event&id=194:deutsche-jugendmeisterschaften-und-jahrgangsmei
 sterschaften-u17-u23\n
DTSTART;VALUE=DATE:20240620
DTEND;VALUE=DATE:20240624
LOCATION:Essen\,Essen
SUMMARY:Deutsche Jugendmeisterschaften und Jahrgangsmeisterschaften U17/U23
URL:https://rc-potsdam.de/index.php?option=com_jem&view=event&id=194:deutsc
 he-jugendmeisterschaften-und-jahrgangsmeisterschaften-u17-u23
END:VEVENT
END:VCALENDAR
