BEGIN:VCALENDAR
VERSION:2.0
PRODID:-//217.160.0.242//NONSGML kigkonsult.se iCalcreator 2.20//
CALSCALE:GREGORIAN
METHOD:PUBLISH
X-WR-TIMEZONE:Europe/Berlin
BEGIN:VEVENT
UID:event141@Ruder-Club Potsdam e.V.
DTSTAMP:20260420T071507Z
CATEGORIES:Regatta
DESCRIPTION:Europameisterschaften\nKategorie: Regatta\nICS-Link: https://rc
 -potsdam.de/index.php?option=com_jem&view=event&id=141:europameisterschaft
 en\n
DTSTART;VALUE=DATE:20240425
DTEND;VALUE=DATE:20240429
LOCATION:Szeged
SUMMARY:Europameisterschaften
URL:https://rc-potsdam.de/index.php?option=com_jem&view=event&id=141:europa
 meisterschaften
END:VEVENT
END:VCALENDAR
