BEGIN:VCALENDAR
VERSION:2.0
PRODID:-//217.160.0.242//NONSGML kigkonsult.se iCalcreator 2.20//
CALSCALE:GREGORIAN
METHOD:PUBLISH
X-WR-TIMEZONE:Europe/Berlin
BEGIN:VEVENT
UID:event176@Ruder-Club Potsdam e.V.
DTSTAMP:20260420T071109Z
CATEGORIES:Internationale Regatta
DESCRIPTION:1. Internationale DRV-Junioren-Regatta 2022 München\nKategorie:
  Internationale Regatta\nICS-Link: https://rc-potsdam.de/index.php?option=
 com_jem&view=event&id=176:1-internationale-drv-junioren-regatta-2022-münch
 en\n
DTSTART;VALUE=DATE:20240503
DTEND;VALUE=DATE:20240506
LOCATION:München\,Oberschleißheim\,Germany
SUMMARY:1. Internationale DRV-Junioren-Regatta 2022 München
END:VEVENT
BEGIN:VEVENT
UID:event182@Ruder-Club Potsdam e.V.
DTSTAMP:20260420T071109Z
CATEGORIES:Internationale Regatta
DESCRIPTION:Internationale DRV-Junioren-Regatta 2022\nKategorie: Internatio
 nale Regatta\nICS-Link: https://rc-potsdam.de/index.php?option=com_jem&vie
 w=event&id=182:internationale-drv-junioren-regatta-2022\n
DTSTART;VALUE=DATE:20240531
DTEND;VALUE=DATE:20240603
LOCATION:Hamburg\,Allermöher Deich 36\,21037 Hamburg\,Germany
SUMMARY:Internationale DRV-Junioren-Regatta 2022
URL:https://rc-potsdam.de/index.php?option=com_jem&view=event&id=182:intern
 ationale-drv-junioren-regatta-2022
END:VEVENT
END:VCALENDAR
